BEGIN:VCALENDAR
VERSION:2.0
PRODID:-//Toukley RSL Sub Branch - ECPv6.15.17.1//NONSGML v1.0//EN
CALSCALE:GREGORIAN
METHOD:PUBLISH
X-WR-CALNAME:Toukley RSL Sub Branch
X-ORIGINAL-URL:https://toukleyrslsb.org.au
X-WR-CALDESC:Events for Toukley RSL Sub Branch
REFRESH-INTERVAL;VALUE=DURATION:PT1H
X-Robots-Tag:noindex
X-PUBLISHED-TTL:PT1H
BEGIN:VTIMEZONE
TZID:Australia/Sydney
BEGIN:STANDARD
TZOFFSETFROM:+1100
TZOFFSETTO:+1000
TZNAME:AEST
DTSTART:20250405T160000
END:STANDARD
BEGIN:DAYLIGHT
TZOFFSETFROM:+1000
TZOFFSETTO:+1100
TZNAME:AEDT
DTSTART:20251004T160000
END:DAYLIGHT
BEGIN:STANDARD
TZOFFSETFROM:+1100
TZOFFSETTO:+1000
TZNAME:AEST
DTSTART:20260404T160000
END:STANDARD
BEGIN:DAYLIGHT
TZOFFSETFROM:+1000
TZOFFSETTO:+1100
TZNAME:AEDT
DTSTART:20261003T160000
END:DAYLIGHT
BEGIN:STANDARD
TZOFFSETFROM:+1100
TZOFFSETTO:+1000
TZNAME:AEST
DTSTART:20270403T160000
END:STANDARD
BEGIN:DAYLIGHT
TZOFFSETFROM:+1000
TZOFFSETTO:+1100
TZNAME:AEDT
DTSTART:20271002T160000
END:DAYLIGHT
END:VTIMEZONE
BEGIN:VEVENT
DTSTART;TZID=Australia/Sydney:20260425T052000
DTEND;TZID=Australia/Sydney:20260425T120000
DTSTAMP:20260419T221553
CREATED:20260225T051719Z
LAST-MODIFIED:20260225T051719Z
UID:3359-1777094400-1777118400@toukleyrslsb.org.au
SUMMARY:ANZAC Day
DESCRIPTION:Holmes Avenue Toukley \nCommemorative Services  \nSaturday 25th April 2026 \nDawn Service – Toukley RSL Sub Branch Cenotaph commences 05:20 am. \nMorning Service – At Toukley RSL Sub Branch Cenotaph  \nMarch from Toukley Village Green to Toukley RSL Cenotaph \n commences at 09:35 am. \nService commences on completion of the march
URL:https://toukleyrslsb.org.au/event/anzac-day/
LOCATION:Toukley Returned Services League Sub Branch\, Holmes Avenue\, Toukley\, NSW\, 2259\, Australia
END:VEVENT
END:VCALENDAR